Workbook

Sheet PIP Proposal _ FY 2026-27
A1: Annexure - 1: Details of Proposal for FY 2026-27
A2: State: Tamil Nadu
E3: Amount in Rs. (Lakhs)
A4: Pool | B4: FMR Code | C4: Programme/ Theme | D4: S.No. | E4: Scheme/ Activity | F4: DBT | H4: Infrastructure - Civil Works (I&C) | L4: Equipment (Including Furniture, Excluding Computers) | N4: Drugs and Supplies | R4: Diagnostics (Consumables, PPP, Sample Transport) | T4: Others including operating costs(OOC) | V4: Surveillance, Research, Assessment, Evaluation (SRAE) | X4: Amount Proposed by State/UT for FY 2026-27 | Y4: State Remarks | Z4: Budget Recommended for NPCC | AH4: GoI Remarks for NPCC | AI4: Budget Recommended for RoP | AQ4: GoI Remarks for RoP
H5: Old / Ongoing Work | I5: New Work | J5: Total Budget Proposed | K5: State Remarks | N5: Central Supplies (Kind Grants) - To be provided by the PDs | O5: Budget for Procurement done by States | P5: Total Budget Proposed | Q5: State Remarks | Z5: DBT | AA5: Infrastructure - Civil Works (I&C) | AB5: Equipment (Including Furniture, Excluding Computers) | AC5: Drugs and Supplies | AD5: Diagnostics (Consumables, PPP, Sample Transport) | AE5: Others including operating costs(OOC) | AF5: Surveillance, Research, Assessment, Evaluation (SRAE) | AG5: Total Amount Recommended for FY 2026-27 | AI5: DBT | AJ5: Infrastructure - Civil Works (I&C) | AK5: Equipment (Including Furniture, Excluding Computers) | AL5: Drugs and Supplies | AM5: Diagnostics (Consumables, PPP, Sample Transport) | AN5: Others including operating costs(OOC) | AO5: Surveillance, Research, Assessment, Evaluation (SRAE) | AP5: Total Amount Recommended for FY 2026-27
F6: Budget Proposed | G6: State Remarks | H6: Budget Proposed | I6: Budget Proposed | L6: Budget Proposed | M6: State Remarks | N6: Amount | O6: Budget Proposed | R6: Budget Proposed | S6: State Remarks | T6: Budget Proposed | U6: State Remarks | V6: Budget Proposed | W6: State Remarks
A7: RCH Flexible Pool (including RI, IPPI, NIDDCP) | B7: RCH.1 | C7: Maternal Health | D7: 1 | E7: Village Health Sanitation & Nutrition Days (VHSNDs) | J7: =+I7+H7 -> 0 | P7: =+O7+N7 -> 0 | X7: =F7+J7+L7+P7+R7+T7+V7 -> 0 | Y7: =CONCATENATE(G7," ",K7," ",M7," ",Q7," ",S7," ",U7," ",W7) | AG7: =SUM(Z7:AF7) -> 0 | AP7: =SUM(AI7:AO7) -> 0
D8: 2 | E8: Pregnancy Registration and Ante-Natal Checkups | J8: =+I8+H8 -> 0 | P8: =+O8+N8 -> 0 | R8: 163.01616 | S8: Ongoing Activity. Proposed for Rs163.02 Lakhs towards procuring Dual testing Kits @ Rs18.3 / Kit for 8,90,799 AN mothers | X8: =F8+J8+L8+P8+R8+T8+V8 -> 163.01616 | Y8: =CONCATENATE(G8," ",K8," ",M8," ",Q8," ",S8," ",U8," ",W8) -> Ongoing Activity. Proposed for Rs163.02 Lakhs towards procuring Dual testing Kits @ Rs18.3 / Kit for 8,90,799 AN mothers | AG8: =SUM(Z8:AF8) -> 0 | AP8: =SUM(AI8:AO8) -> 0
D9: 3 | E9: Janani Suraksha Yojana (JSY) | F9: 2965 | G9: 1. Ongoing activity. Revised based on NPCC Discussion. Proposed for Rs.2275 Lakhs for Institution delivery @ Rs.700 per mother for 3,25,000 in Rural. 2.Ongoing activity. Revised based on NPCC Discussion. Proposed for Rs.690 Lakhs for institution delivery @ Rs.600 per mother for 1,15,000 in Urban. | J9: =+I9+H9 -> 0 | P9: =+O9+N9 -> 0 | T9: 23.74 | U9: 3. Ongoing activity Proposed Rs.23.74 Lakhs for JSY Operational cost | X9: =F9+J9+L9+P9+R9+T9+V9 -> 2988.74 | Y9: =CONCATENATE(G9," ",K9," ",M9," ",Q9," ",S9," ",U9," ",W9) -> 1. Ongoing activity. Revised based on NPCC Discussion. Proposed for Rs.2275 Lakhs for Institution delivery @ Rs.700 per mother for 3,25,000 in Rural. 2.Ongoing activity. Revised based on NPCC Discussion. Proposed for Rs.690 Lakhs for institution delivery @ Rs.600 per mother for 1,15,000 in Urban. 3. Ongoing activity Proposed Rs.23.74 Lakhs for JSY Operational cost | AG9: =SUM(Z9:AF9) -> 0 | AP9: =SUM(AI9:AO9) -> 0
D10: 4 | E10: Janani Shishu Suraksha Karyakram (JSSK) (excluding transport) | J10: =+I10+H10 -> 0 | O10: 3626.9681 | P10: =+O10+N10 -> 3626.9681 | Q10: 1.Ongoing activity. A total of Rs. 3452.97 lakhs is proposed for drugs and consumables, covering 2,68,836 normal deliveries @ Rs. 466 each (Rs. 1254.1 lakhs) and 219,907 LSCS deliveries at Rs. 1000 each (Rs. 2199.07 lakhs). 2.New Activity. Revised based on NPCC Discussion. Rs. 107.52 lakhs is proposed for the procurement of 9,77,486 Glucose Sachets @ Rs. 11/sachet for approx. 4,88,743 Pregnant Women for two times during the ANC. 3.Ongoing Activity Rs. 66.48 lakhs is proposed for Inj.Iron Sucrose for 1,95,497 mothers, at Rs. 8.501 per ampoule, with 4 ampoules per mother. | T10: 1221.8575 | U10: 4. Ongoing activity. Rs. 1221.86 lakhs proposed for the diet of pregnant women @ Rs. 102 per day for 2,68,836 normal deliveries i.e. 268836*102*2 = Rs. 548.42 and @ Rs. 102 per day for 2,19,907 Caesarean Section deliveries i.e. 219907*102*3 = Rs. 672.91. Total = Rs 1221.33. | X10: =F10+J10+L10+P10+R10+T10+V10 -> 4848.8256 | Y10: =CONCATENATE(G10," ",K10," ",M10," ",Q10," ",S10," ",U10," ",W10) -> 1.Ongoing activity. A total of Rs. 3452.97 lakhs is proposed for drugs and consumables, covering 2,68,836 normal deliveries @ Rs. 466 each (Rs. 1254.1 lakhs) and 219,907 LSCS deliveries at Rs. 1000 each (Rs. 2199.07 lakhs). 2.New Activity. Revised based on NPCC Discussion. Rs. 107.52 lakhs is proposed for the procurement of 9,77,486 Glucose Sachets @ Rs. 11/sachet for approx. 4,88,743 Pregnant Women for two times during the ANC. 3.Ongoing Activity Rs. 66.48 lakhs is proposed for Inj.Iron Sucrose for 1,95,497 mothers, at Rs. 8.501 per ampoule, with 4 ampoules per mother. 4. Ongoing activity. Rs. 1221.86 lakhs proposed for the diet of pregnant women @ Rs. 102 per day for 2,68,836 normal deliveries i.e. 268836*102*2 = Rs. 548.42 and @ Rs. 102 per day for 2,19,907 Caesarean Section deliveries i.e. 219907*102*3 = Rs. 672.91. Total = Rs 1221.33. | AG10: =SUM(Z10:AF10) -> 0 | AP10: =SUM(AI10:AO10) -> 0
D11: 5 | E11: Janani Shishu Suraksha Karyakram (JSSK) - Transport | J11: =+I11+H11 -> 0 | P11: =+O11+N11 -> 0 | T11: 1000.72 | U11: Ongoing activity. Rs. 1000.72 lakhs proposed for the transport (To and Fro and inter-facility transfer) of 2,00,144 PW for institutional delivery at the government facilities @ Rs. 500 per PW = 200144*500 = Rs. 1000.72 lakhs. | X11: =F11+J11+L11+P11+R11+T11+V11 -> 1000.72 | Y11: =CONCATENATE(G11," ",K11," ",M11," ",Q11," ",S11," ",U11," ",W11) -> Ongoing activity. Rs. 1000.72 lakhs proposed for the transport (To and Fro and inter-facility transfer) of 2,00,144 PW for institutional delivery at the government facilities @ Rs. 500 per PW = 200144*500 = Rs. 1000.72 lakhs. | AG11: =SUM(Z11:AF11) -> 0 | AP11: =SUM(AI11:AO11) -> 0
D12: 6 | E12: Pradhan Mantri Surakshit Matritva Abhiyan (PMSMA) | J12: =+I12+H12 -> 0 | P12: =+O12+N12 -> 0 | X12: =F12+J12+L12+P12+R12+T12+V12 -> 0 | Y12: =CONCATENATE(G12," ",K12," ",M12," ",Q12," ",S12," ",U12," ",W12) | AG12: =SUM(Z12:AF12) -> 0 | AP12: =SUM(AI12:AO12) -> 0
D13: 7 | E13: Surakshit Matritva Aashwasan (SUMAN) | J13: =+I13+H13 -> 0 | L13: 0 | M13: As per NPCC discussion the activity for procurement of 50 defibrillators has been shifted to RCH 13. | P13: =+O13+N13 -> 0 | X13: =F13+J13+L13+P13+R13+T13+V13 -> 0 | Y13: =CONCATENATE(G13," ",K13," ",M13," ",Q13," ",S13," ",U13," ",W13) -> As per NPCC discussion the activity for procurement of 50 defibrillators has been shifted to RCH 13. | AG13: =SUM(Z13:AF13) -> 0 | AP13: =SUM(AI13:AO13) -> 0
D14: 8 | E14: Midwifery | J14: =+I14+H14 -> 0 | P14: =+O14+N14 -> 0 | T14: 73 | U14: 1. New activity. Proposal revised based on NPCC Discussion. Proposed for establishment of the Midwifery Led Care Unit (MLCU) at GRH Madurai @ Rs.25 Lakhs in-line with the National Guidelines. Details in RCH 8. MLCU 2. New activity. Proposal revised based on NPCC Discussion. Establishment of the State Midwifery Training Institute (SMTI) at the College of Nursing, Madurai Medical College, Madurai, with a total cost of Rs. 48 lakhs (Rs.20 Lakhs for civil works, Rs.25 Lakhs for Mannequins & equipment @ Rs.3 Lakhs for teaching & learning materials). Details in RCH 8. SMTI | X14: =F14+J14+L14+P14+R14+T14+V14 -> 73 | Y14: =CONCATENATE(G14," ",K14," ",M14," ",Q14," ",S14," ",U14," ",W14) -> 1. New activity. Proposal revised based on NPCC Discussion. Proposed for establishment of the Midwifery Led Care Unit (MLCU) at GRH Madurai @ Rs.25 Lakhs in-line with the National Guidelines. Details in RCH 8. MLCU 2. New activity. Proposal revised based on NPCC Discussion. Establishment of the State Midwifery Training Institute (SMTI) at the College of Nursing, Madurai Medical College, Madurai, with a total cost of Rs. 48 lakhs (Rs.20 Lakhs for civil works, Rs.25 Lakhs for Mannequins & equipment @ Rs.3 Lakhs for teaching & learning materials). Details in RCH 8. SMTI | AG14: =SUM(Z14:AF14) -> 0 | AP14: =SUM(AI14:AO14) -> 0
D15: 9 | E15: Maternal Death Review | J15: =+I15+H15 -> 0 | P15: =+O15+N15 -> 0 | V15: 0 | X15: =F15+J15+L15+P15+R15+T15+V15 -> 0 | Y15: =CONCATENATE(G15," ",K15," ",M15," ",Q15," ",S15," ",U15," ",W15) | AG15: =SUM(Z15:AF15) -> 0 | AP15: =SUM(AI15:AO15) -> 0
D16: 10 | E16: Comprehensive Abortion Care | J16: =+I16+H16 -> 0 | O16: 21 | P16: =+O16+N16 -> 21 | Q16: Ongoing activity: Rs. 21 lakhs is proposed for the procurement of 30,000 units of MMA drug at Rs. 70 per kit, as per TNMSC rates. | X16: =F16+J16+L16+P16+R16+T16+V16 -> 21 | Y16: =CONCATENATE(G16," ",K16," ",M16," ",Q16," ",S16," ",U16," ",W16) -> Ongoing activity: Rs. 21 lakhs is proposed for the procurement of 30,000 units of MMA drug at Rs. 70 per kit, as per TNMSC rates. | AG16: =SUM(Z16:AF16) -> 0 | AP16: =SUM(AI16:AO16) -> 0
D17: 11 | E17: MCH Wings | H17: 600 | I17: 3200.04 | J17: =+I17+H17 -> 3800.04 | K17: 1. Ongoing activity. Construction of the MCH wing at Villupuram CEmONC Centre is proposed at a total cost of Rs. 1200 lakhs, with Rs. 600 lakhs approved in SPIP 2025-26 and the remaining Rs. 600 lakhs proposed for 2026-27. New Activity. 2. Total number of works: 9 Total amount proposed for 2026–27: Rs.3,200 lakhs. Total cost of works: Rs.9,200 lakhs Balance will be proposed in 2027-28 GH Dharmapuri, GH Dindugal, GH Kanniyakumari, GH Nagapattinam, GH Tiruppur, and Madurakatam GH @ Rs.1,200.00 lakhs each, with Rs.400.00 lakhs proposed for 2026–27 (33%)., DHQH Kovilpatti and GH Pollachi @ Rs.600.00 lakhs each, with Rs.240.00 lakhs proposed for 2026–27 (40%)., GH Thiruvallur: Rs.800.00 lakhs, with Rs.320.00 lakhs proposed for 2026–27 (40%). Details enclosed in RCH 11 MCH wing | P17: =+O17+N17 -> 0 | X17: =F17+J17+L17+P17+R17+T17+V17 -> 3800.04 | Y17: =CONCATENATE(G17," ",K17," ",M17," ",Q17," ",S17," ",U17," ",W17) -> 1. Ongoing activity. Construction of the MCH wing at Villupuram CEmONC Centre is proposed at a total cost of Rs. 1200 lakhs, with Rs. 600 lakhs approved in SPIP 2025-26 and the remaining Rs. 600 lakhs proposed for 2026-27. New Activity. 2. Total number of works: 9 Total amount proposed for 2026–27: Rs.3,200 lakhs. Total cost of works: Rs.9,200 lakhs Balance will be proposed in 2027-28 GH Dharmapuri, GH Dindugal, GH Kanniyakumari, GH Nagapattinam, GH Tiruppur, and Madurakatam GH @ Rs.1,200.00 lakhs each, with Rs.400.00 lakhs proposed for 2026–27 (33%)., DHQH Kovilpatti and GH Pollachi @ Rs.600.00 lakhs each, with Rs.240.00 lakhs proposed for 2026–27 (40%)., GH Thiruvallur: Rs.800.00 lakhs, with Rs.320.00 lakhs proposed for 2026–27 (40%). Details enclosed in RCH 11 MCH wing | AG17: =SUM(Z17:AF17) -> 0 | AP17: =SUM(AI17:AO17) -> 0
D18: 12 | E18: FRUs | J18: =+I18+H18 -> 0 | L18: 178.6638 | M18: New activity. Procurement of 206 LDR cots—20 for CHCs and 186 for CEmONC centres—at Rs. 87,000 per cot, totaling Rs. 178.66 lakhs. Details are enclosed in RCH 12 LDR Cot. | P18: =+O18+N18 -> 0 | X18: =F18+J18+L18+P18+R18+T18+V18 -> 178.6638 | Y18: =CONCATENATE(G18," ",K18," ",M18," ",Q18," ",S18," ",U18," ",W18) -> New activity. Procurement of 206 LDR cots—20 for CHCs and 186 for CEmONC centres—at Rs. 87,000 per cot, totaling Rs. 178.66 lakhs. Details are enclosed in RCH 12 LDR Cot. | AG18: =SUM(Z18:AF18) -> 0 | AP18: =SUM(AI18:AO18) -> 0
D19: 13 | E19: HDU/ICU - Maternal Health | J19: =+I19+H19 -> 0 | L19: 461.88 | M19: 1. New activity. Procurement of 259 Volume Infusion Pumps for HDUs of CEmONC and labour rooms at Rs. 15,500 per unit, totaling Rs. 40.15 lakhs. Details are enclosed in RCH 13 Volume Infusion Pump 2. New activity. Procurement of 259 Syringe Infusion Pumps for HDUs of CEmONC and labour rooms at Rs. 16,500 per unit, totaling Rs. 42.74 lakhs. Details are enclosed in RCH 13 Syringe Infusion Pump 3. New activity. Activity has been shifted from RCH.7 as per NPCC Discussion. Proposed for procurement of 50 defibrillators for Obstetric ICUs at 37 District Hospitals and 13 MCHs @ Rs. 2.48 lakhs per unit. Details are enclosed in RCH 13 Suman. 4. New activity. In line with NPCC Discussions, activity shifted from RCH 11 and proposal for procurement of ROTEM has been modified to TEG. Procurement of TEG for 15 CEmONC centres is proposed at Rs. 17 lakhs per centre, totaling Rs.255 lakhs. Details are enclosed in RCH 13 TEG. | P19: =+O19+N19 -> 0 | X19: =F19+J19+L19+P19+R19+T19+V19 -> 461.88 | Y19: =CONCATENATE(G19," ",K19," ",M19," ",Q19," ",S19," ",U19," ",W19) -> 1. New activity. Procurement of 259 Volume Infusion Pumps for HDUs of CEmONC and labour rooms at Rs. 15,500 per unit, totaling Rs. 40.15 lakhs. Details are enclosed in RCH 13 Volume Infusion Pump 2. New activity. Procurement of 259 Syringe Infusion Pumps for HDUs of CEmONC and labour rooms at Rs. 16,500 per unit, totaling Rs. 42.74 lakhs. Details are enclosed in RCH 13 Syringe Infusion Pump 3. New activity. Activity has been shifted from RCH.7 as per NPCC Discussion. Proposed for procurement of 50 defibrillators for Obstetric ICUs at 37 District Hospitals and 13 MCHs @ Rs. 2.48 lakhs per unit. Details are enclosed in RCH 13 Suman. 4. New activity. In line with NPCC Discussions, activity shifted from RCH 11 and proposal for procurement of ROTEM has been modified to TEG. Procurement of TEG for 15 CEmONC centres is proposed at Rs. 17 lakhs per centre, totaling Rs.255 lakhs. Details are enclosed in RCH 13 TEG. | AG19: =SUM(Z19:AF19) -> 0 | AP19: =SUM(AI19:AO19) -> 0
D20: 14 | E20: Labour Rooms (LDR + NBCCs) | J20: =+I20+H20 -> 0 | P20: =+O20+N20 -> 0 | X20: =F20+J20+L20+P20+R20+T20+V20 -> 0 | Y20: =CONCATENATE(G20," ",K20," ",M20," ",Q20," ",S20," ",U20," ",W20) | AG20: =SUM(Z20:AF20) -> 0 | AP20: =SUM(AI20:AO20) -> 0
D21: 15 | E21: LaQshya | F21: 554 | G21: 1. Ongoing activity. Revised post NPCC Discussion. Rs. 554 Lakhs for incentives of following number of facilities : - Rs. 432.0 lakhs for 36 MCH (LR & MOT) @ 6 lakhs/ department (36*6*2) - Rs 18.0 Lakhs for 3 DH (LR& MOT) @ 3 lakhs/ department (3*3*2) for Surveillance II - Rs. 80.0 Lakhs for 20 SDH (LR & MOT) @ 2 lakhs/department (20*2*2 for Surveillance I & II - Rs. 24.0 Lakhs for 6 CHC (LR & MOT) @ 2 lakhs/department (6*2*2) for Surveillance I & II | J21: =+I21+H21 -> 0 | P21: =+O21+N21 -> 0 | R21: 89 | S21: 2. New activity. Revised post NPCC Discussion. Rs. 89.00 lakhs proposed for procurement of Chemical & Biological Indicators for 156 (35 DH, 62 CHC, 59 SDH) high delivery CEmONC and BEmONC centres across the State. | T21: 35.23 | U21: 3. On-going activity. Revised as per NPCC Discussion. Rs.35.23 Lakhs proposed for approval for LAQSHYA / NQAS Assessment of the following facilities : - Rs. 3.90 lakhs for State assessment (recertification) of 26 MCH @ of 15,000/facility - Rs. 23.66 lakhs for National assessment (recertification) of 26 MCH @ of 91,000/facility_x000B_- Rs. 1.5 lakhs for the surveillance assessment of 2 MCH, 6 SDH, and 2 CHCs @15,000/facility - Rs. 4.05 lakhs for the surveillance assessment II of 6 MCH, 3 DH, 14 SDH, 4 CHC @ of 15,000/facility - Rs. 0.30 lakhs for the state assessment of 2 MCH @ of 15,000/facility - Rs. 1.82 lakhs for the national assessment of 2 MCH @ of 91,000/facility Rs 64.02 Lakhs proposed for assessments of DH, SDH, CHC for planned facilities has been dropped as LaQshya is integrated with NQAS. | V21: 0 | W21: 4. Ongoing activity. Dropped post NPCC Discussion as Rs. 9.55 lakhs for mentoring by SQAU and DQAU as LaQshya and MusQan got integrated in NQAS. | X21: =F21+J21+L21+P21+R21+T21+V21 -> 678.23 | Y21: =CONCATENATE(G21," ",K21," ",M21," ",Q21," ",S21," ",U21," ",W21) -> 1. Ongoing activity. Revised post NPCC Discussion. Rs. 554 Lakhs for incentives of following number of facilities : - Rs. 432.0 lakhs for 36 MCH (LR & MOT) @ 6 lakhs/ department (36*6*2) - Rs 18.0 Lakhs for 3 DH (LR& MOT) @ 3 lakhs/ department (3*3*2) for Surveillance II - Rs. 80.0 Lakhs for 20 SDH (LR & MOT) @ 2 lakhs/department (20*2*2 for Surveillance I & II - Rs. 24.0 Lakhs for 6 CHC (LR & MOT) @ 2 lakhs/department (6*2*2) for Surveillance I & II 2. New activity. Revised post NPCC Discussion. Rs. 89.00 lakhs proposed for procurement of Chemical & Biological Indicators for 156 (35 DH, 62 CHC, 59 SDH) high delivery CEmONC and BEmONC centres across the State. 3. On-going activity. Revised as per NPCC Discussion. Rs.35.23 Lakhs proposed for approval for LAQSHYA / NQAS Assessment of the following facilities : - Rs. 3.90 lakhs for State assessment (recertification) of 26 MCH @ of 15,000/facility - Rs. 23.66 lakhs for National assessment (recertification) of 26 MCH @ of 91,000/facility_x000B_- Rs. 1.5 lakhs for the surveillance assessment of 2 MCH, 6 SDH, and 2 CHCs @15,000/facility - Rs. 4.05 lakhs for the surveillance assessment II of 6 MCH, 3 DH, 14 SDH, 4 CHC @ of 15,000/facility - Rs. 0.30 lakhs for the state assessment of 2 MCH @ of 15,000/facility - Rs. 1.82 lakhs for the national assessment of 2 MCH @ of 91,000/facility Rs 64.02 Lakhs proposed for assessments of DH, SDH, CHC for planned facilities has been dropped as LaQshya is integrated with NQAS. 4. Ongoing activity. Dropped post NPCC Discussion as Rs. 9.55 lakhs for mentoring by SQAU and DQAU as LaQshya and MusQan got integrated in NQAS.
D22: 16 | E22: Implementation of RCH Portal/ANMOL/MCTS | Y22: =CONCATENATE(G22," ",K22," ",M22," ",Q22," ",S22," ",U22," ",W22)
D23: 17 | E23: Other MH Components | J23: =+I23+H23 -> 0 | P23: =+O23+N23 -> 0 | X23: =F23+J23+L23+P23+R23+T23+V23 -> 0 | Y23: =CONCATENATE(G23," ",K23," ",M23," ",Q23," ",S23," ",U23," ",W23) | AG23: =SUM(Z23:AF23) -> 0 | AP23: =SUM(AI23:AO23) -> 0
D24: 18 | E24: State specific Initiatives and Innovations | Y24: =CONCATENATE(G24," ",K24," ",M24," ",Q24," ",S24," ",U24," ",W24)
B25: RCH.2 | C25: PC & PNDT Act | D25: 19 | E25: PC & PNDT Act | J25: =+I25+H25 -> 0 | P25: =+O25+N25 -> 0 | X25: =F25+J25+L25+P25+R25+T25+V25 -> 0 | Y25: =CONCATENATE(G25," ",K25," ",M25," ",Q25," ",S25," ",U25," ",W25) | AG25: =SUM(Z25:AF25) -> 0 | AP25: =SUM(AI25:AO25) -> 0
D26: 20 | E26: Gender Based Violence & Medico Legal Care For Survivors Victims of Sexual Violence | J26: =+I26+H26 -> 0 | P26: =+O26+N26 -> 0 | X26: =F26+J26+L26+P26+R26+T26+V26 -> 0 | Y26: =CONCATENATE(G26," ",K26," ",M26," ",Q26," ",S26," ",U26," ",W26) | AG26: =SUM(Z26:AF26) -> 0 | AP26: =SUM(AI26:AO26) -> 0
B27: RCH.3 | C27: Child Health | D27: 21 | E27: Rashtriya Bal Swasthya Karyakram (RBSK) | J27: =+I27+H27 -> 0 | L27: 40.4 | M27: 1. Ongoing activity. Proposed for RBSK Tool kit Rs 5000/RBSK team for 808 Team at a total cost of Rs.40.40 Lakhs | O27: 0 | P27: =+O27+N27 -> 0 | Q27: 2. Ongoing Activity. The activity has been shifted to Sl. No.180. Free Drugs Service Initiative as per NPCC Discussion. Rs. 322 Lakhs for RBSK Drugs @ Rs. 0.4 Lakhs per unit for 808 units | T27: 3947.6016 | U27: 3. Ongoing Activity. In-line with NPCC Discussions, the proposal for the GPS Tracking has been included in the Mobility Support component of RBSK. 4. Ongoing Activity Total funds proposed: Rs.3927.85 Lakhs a. Mobility charges for 808 MHT vehicle (Rural – 770 ; Urban – 23 ; GCC – 15) @ Rs.40000/month for 12 months, totalling to Rs.3878.40 Lakhs b. GPS tracking @ Rs.6120/ Vehicle for 808 Vehicle, totalling to Rs.49.45 Lakhs In-line with NPCC Discussions, the proposal for the GPS Tracking has been included in the Mobility Support component of RBSK. 5. Ongoing Activity. In-line with NPCC Discussions, the proposal has been revised to 823 MOs in 808 Mobile Health Teams. Proposed for Rs. 19.75 lakh For CUG connection for 808 MHTs (823 MOs) @ Rs. 2400/ Year. The proposal for CUG Connection for 40 DEICs has been shifted to RCH 22. | X27: =F27+J27+L27+P27+R27+T27+V27 -> 3988.0016 | Y27: =CONCATENATE(G27," ",K27," ",M27," ",Q27," ",S27," ",U27," ",W27) -> 1. Ongoing activity. Proposed for RBSK Tool kit Rs 5000/RBSK team for 808 Team at a total cost of Rs.40.40 Lakhs 2. Ongoing Activity. The activity has been shifted to Sl. No.180. Free Drugs Service Initiative as per NPCC Discussion. Rs. 322 Lakhs for RBSK Drugs @ Rs. 0.4 Lakhs per unit for 808 units 3. Ongoing Activity. In-line with NPCC Discussions, the proposal for the GPS Tracking has been included in the Mobility Support component of RBSK. 4. Ongoing Activity Total funds proposed: Rs.3927.85 Lakhs a. Mobility charges for 808 MHT vehicle (Rural – 770 ; Urban – 23 ; GCC – 15) @ Rs.40000/month for 12 months, totalling to Rs.3878.40 Lakhs b. GPS tracking @ Rs.6120/ Vehicle for 808 Vehicle, totalling to Rs.49.45 Lakhs In-line with NPCC Discussions, the proposal for the GPS Tracking has been included in the Mobility Support component of RBSK. 5. Ongoing Activity. In-line with NPCC Discussions, the proposal has been revised to 823 MOs in 808 Mobile Health Teams. Proposed for Rs. 19.75 lakh For CUG connection for 808 MHTs (823 MOs) @ Rs. 2400/ Year. The proposal for CUG Connection for 40 DEICs has been shifted to RCH 22. | AG27: =SUM(Z27:AF27) -> 0 | AP27: =SUM(AI27:AO27) -> 0
D28: 22 | E28: RBSK at Facility Level including District Early Intervention Centers (DEIC) | I28: 115 | J28: =+I28+H28 -> 115 | K28: 1. New activity. Construction of new DEIC building at KGH,Chennai. Total cost is Rs.200 lakhs. 50% of the cost Rs.100 lakhs proposed this year and balance will be proposed in 2027-28. Details enclosed in RCH 22 DEIC 2. New activity. Revised as per NPCC Discussion. The proposal for the establishment of Sensory Integration park in DEICs at KMC-Chennai , The Nilgiris , Ramnad , Thoothukudi and Pentland-Vellore is restricted to Rs.3 lakhs per unit. Total cost is Rs.15 lakhs. Details enclosed in RCH 22 Sensory Integration Park | L28: 53.39 | M28: 3. New activity. Procurement of equipment to DEIC at Mayiladuthurai @ Rs.53.39 lakhs. Details enclosed in RCH 22 Mayiladuthurai DEIC | O28: 1493.357 | P28: =+O28+N28 -> 1493.357 | Q28: 4. Ongoing Activity Proposed Rs 1493.36 lakh for growth hormone dispensed at DEICs {Rs 327.27 lakhs (24 mg Somatogron = 234 beneficiaries *3330 vials @ Rs.9828) and Rs. 1166.09 lakhs (60 mg Somatogron = 289 beneficiaries *4746 vials @ Rs.24570)} | T28: 148.96 | U28: 5. Ongoing activity Rs.48.00 Lakhs proposed for Operational cost for 39 DEIC @ Rs.10000/ month x 12 Months 6. Ongoing activity Rs.100 Lakhs for Referral support for RBSK referred child / student for this management at Secondary and Tertiary Care Centre 7. Ongoing Activity. CUG Connection for 40 DEICs @ Rs.2400 per unit for 40 DEICs at a total cost of Rs.96,000/-. In-line with NPCC Discussions, the proposal has been shifted from RCH 21. | X28: =F28+J28+L28+P28+R28+T28+V28 -> 1810.707 | Y28: =CONCATENATE(G28," ",K28," ",M28," ",Q28," ",S28," ",U28," ",W28) -> 1. New activity. Construction of new DEIC building at KGH,Chennai. Total cost is Rs.200 lakhs. 50% of the cost Rs.100 lakhs proposed this year and balance will be proposed in 2027-28. Details enclosed in RCH 22 DEIC 2. New activity. Revised as per NPCC Discussion. The proposal for the establishment of Sensory Integration park in DEICs at KMC-Chennai , The Nilgiris , Ramnad , Thoothukudi and Pentland-Vellore is restricted to Rs.3 lakhs per unit. Total cost is Rs.15 lakhs. Details enclosed in RCH 22 Sensory Integration Park 3. New activity. Procurement of equipment to DEIC at Mayiladuthurai @ Rs.53.39 lakhs. Details enclosed in RCH 22 Mayiladuthurai DEIC 4. Ongoing Activity Proposed Rs 1493.36 lakh for growth hormone dispensed at DEICs {Rs 327.27 lakhs (24 mg Somatogron = 234 beneficiaries *3330 vials @ Rs.9828) and Rs. 1166.09 lakhs (60 mg Somatogron = 289 beneficiaries *4746 vials @ Rs.24570)} 5. Ongoing activity Rs.48.00 Lakhs proposed for Operational cost for 39 DEIC @ Rs.10000/ month x 12 Months 6. Ongoing activity Rs.100 Lakhs for Referral support for RBSK referred child / student for this management at Secondary and Tertiary Care Centre 7. Ongoing Activity. CUG Connection for 40 DEICs @ Rs.2400 per unit for 40 DEICs at a total cost of Rs.96,000/-. In-line with NPCC Discussions, the proposal has been shifted from RCH 21. | AG28: =SUM(Z28:AF28) -> 0 | AP28: =SUM(AI28:AO28) -> 0
D29: 23 | E29: Community Based Care - HBNC & HBYC | J29: =+I29+H29 -> 0 | L29: 26.5 | M29: Ongoing activity. Included as per NPCC Discussion. Proposed for HBYC Kit for ASHAs @ Rs.1000 per ASHA, totalling to Rs.26.50 Lakhs. | P29: =+O29+N29 -> 0 | X29: =F29+J29+L29+P29+R29+T29+V29 -> 26.5 | Y29: =CONCATENATE(G29," ",K29," ",M29," ",Q29," ",S29," ",U29," ",W29) -> Ongoing activity. Included as per NPCC Discussion. Proposed for HBYC Kit for ASHAs @ Rs.1000 per ASHA, totalling to Rs.26.50 Lakhs. | AG29: =SUM(Z29:AF29) -> 0 | AP29: =SUM(AI29:AO29) -> 0
D30: 24 | E30: Facility Based New born Care | I30: 261 | J30: =+I30+H30 -> 261 | K30: 1. New activity. Total cost is Rs.40 Lakhs Upgrading the NBSU to SNCU -Thirukovilur, Rasipuram, Srikali, Vedaranyam Repairs and Renovations for 7 SNCU = Rs 10.00 Lakhs x 4 SNCU = Rs.40.00 Lakhs. Details enclosed in RCH 24 SNCU upgradation 2. New Activity. Establishment of NBSU at Nanguneri GH , Vijayapuram GH, Jamunamaruthur PHC Tiruvannamalai. Proposed for Civil Modifications - Rs 7 Lakhs per centre. Total cost is Rs.21 lakhs. Details enclosed in RCH 24 NBSU 3. New activity. Establishment of MNCU at Salem, Vellore, Tuticorin, Tiruppur, Virudhunagar, Chengalpattu, Thanjavur and Tirupathur DHQ a.Civil cost for repairs and renovation = Rs.25.00 Lakhs x 8 MNCUs = Rs.200.00 Lakhs. Details enclosed in RCH 24 MNCU | L30: 2915.97 | M30: 4. New activity. Upgrading the NBSU to SNCU -Thirukovilur, Rasipuram, Srikali, Vedaranyam a.Equipment to 4 SNCU =Rs.53.28 Lakhs x 4 SNCU = Rs.213.12 Lakhs. Details enclosed in RCH 24 SNCU upgradation 5. New activity. Establishment of NBSU at Nanguneri GH , Vijayapuram GH, Jamunamaruthur PHC Tiruvannamalai. Equipment - Rs.5.99 Lakhs each. Total cost is Rs.17.97 lakhs. Details enclosed in RCH 24 NBSU 6. New activity. Establishment of MNCU at Salem, Vellore, Tuticorin, Tiruppur, Virudhunagar, Chengalpattu, Thanjavur and Tirupathur DHQ b.Equipment to 8 MNCU @ Rs.59.65 Lakhs x 8 MNCU= Rs.477.20 Lakhs . Details enclosed in RCH 24 MNCU 7. New activity. Proposed for Rs. 2207.68 lakh towards procurement of equipment for 92 Newborn care units based on gap analysis. In-line with the discussion in NPCC, the proposals for HFO (3) and iNO (6) are dropped. Details enclosed in RCH 24 SNCU equipment | P30: =+O30+N30 -> 0 | T30: 1026.5 | U30: 8. Ongoing activity. Proposed for Rs.966 Lakhs towards 92 SNCUs @ Rs.10.50 Lakhs per centre. 9. Ongoing activity. Proposed for Rs.60 lakhs towards operational costs for 146 NBSUs @ Rs.41096/- per centre. 10. Ongoing activity. Proposed Rs.0.5 lakh for State Newborn Resource centre at ICH Chennai for operational expenses. | X30: =F30+J30+L30+P30+R30+T30+V30 -> 4203.47 | Y30: =CONCATENATE(G30," ",K30," ",M30," ",Q30," ",S30," ",U30," ",W30) -> 1. New activity. Total cost is Rs.40 Lakhs Upgrading the NBSU to SNCU -Thirukovilur, Rasipuram, Srikali, Vedaranyam Repairs and Renovations for 7 SNCU = Rs 10.00 Lakhs x 4 SNCU = Rs.40.00 Lakhs. Details enclosed in RCH 24 SNCU upgradation 2. New Activity. Establishment of NBSU at Nanguneri GH , Vijayapuram GH, Jamunamaruthur PHC Tiruvannamalai. Proposed for Civil Modifications - Rs 7 Lakhs per centre. Total cost is Rs.21 lakhs. Details enclosed in RCH 24 NBSU 3. New activity. Establishment of MNCU at Salem, Vellore, Tuticorin, Tiruppur, Virudhunagar, Chengalpattu, Thanjavur and Tirupathur DHQ a.Civil cost for repairs and renovation = Rs.25.00 Lakhs x 8 MNCUs = Rs.200.00 Lakhs. Details enclosed in RCH 24 MNCU 4. New activity. Upgrading the NBSU to SNCU -Thirukovilur, Rasipuram, Srikali, Vedaranyam a.Equipment to 4 SNCU =Rs.53.28 Lakhs x 4 SNCU = Rs.213.12 Lakhs. Details enclosed in RCH 24 SNCU upgradation 5. New activity. Establishment of NBSU at Nanguneri GH , Vijayapuram GH, Jamunamaruthur PHC Tiruvannamalai. Equipment - Rs.5.99 Lakhs each. Total cost is Rs.17.97 lakhs. Details enclosed in RCH 24 NBSU 6. New activity. Establishment of MNCU at Salem, Vellore, Tuticorin, Tiruppur, Virudhunagar, Chengalpattu, Thanjavur and Tirupathur DHQ b.Equipment to 8 MNCU @ Rs.59.65 Lakhs x 8 MNCU= Rs.477.20 Lakhs . Details enclosed in RCH 24 MNCU 7. New activity. Proposed for Rs. 2207.68 lakh towards procurement of equipment for 92 Newborn care units based on gap analysis. In-line with the discussion in NPCC, the proposals for HFO (3) and iNO (6) are dropped. Details enclosed in RCH 24 SNCU equipment 8. Ongoing activity. Proposed for Rs.966 Lakhs towards 92 SNCUs @ Rs.10.50 Lakhs per centre. 9. Ongoing activity. Proposed for Rs.60 lakhs towards operational costs for 146 NBSUs @ Rs.41096/- per centre. 10. Ongoing activity. Proposed Rs.0.5 lakh for State Newborn Resource centre at ICH Chennai for operational expenses. | AG30: =SUM(Z30:AF30) -> 0 | AP30: =SUM(AI30:AO30) -> 0
D31: 25 | E31: Child Death Review | J31: =+I31+H31 -> 0 | P31: =+O31+N31 -> 0 | V31: 0 | X31: =F31+J31+L31+P31+R31+T31+V31 -> 0 | Y31: =CONCATENATE(G31," ",K31," ",M31," ",Q31," ",S31," ",U31," ",W31) | AG31: =SUM(Z31:AF31) -> 0 | AP31: =SUM(AI31:AO31) -> 0
D32: 26 | E32: SAANS | J32: =+I32+H32 -> 0 | O32: 131.0024 | P32: =+O32+N32 -> 131.0024 | Q32: 1. Ongoing activity. Rs.124.4 Lakhs for ORS @ Rs. 2.4 per pack for 51,82,713 Beneficiaries 2. Ongoing activity. Rs. 6.62 Lakhs for Zinc @ Rs 0.12 per Tablet for 55,14,406 tablets | R32: 0 | T32: 0 | U32: 3. New activity. Operational Cost for 3 Genetic Laboratories at ICH Chennai, GRH Madurai and GMCH Coimbatore at Rs.5 lakhs per centre. The proposal is dropped in-line with the NPCC Discussions. | X32: =F32+J32+L32+P32+R32+T32+V32 -> 131.0024 | Y32: =CONCATENATE(G32," ",K32," ",M32," ",Q32," ",S32," ",U32," ",W32) -> 1. Ongoing activity. Rs.124.4 Lakhs for ORS @ Rs. 2.4 per pack for 51,82,713 Beneficiaries 2. Ongoing activity. Rs. 6.62 Lakhs for Zinc @ Rs 0.12 per Tablet for 55,14,406 tablets 3. New activity. Operational Cost for 3 Genetic Laboratories at ICH Chennai, GRH Madurai and GMCH Coimbatore at Rs.5 lakhs per centre. The proposal is dropped in-line with the NPCC Discussions. | AG32: =SUM(Z32:AF32) -> 0 | AP32: =SUM(AI32:AO32) -> 0
D33: 27 | E33: Paediatric Care | J33: =+I33+H33 -> 0 | L33: 606.6 | M33: 1. New activity. Procurement of equipment to PICU at Rs.60.66 lakhs per centre for 10 PICUs as per Gap analysis. Total cost is Rs.606.60 lakhs. Details enclosed in RCH 27 PICU | P33: =+O33+N33 -> 0 | T33: 275 | U33: 2. Ongoing Activity. Rs.275.00 Lakhs proposed for operational expenses for 55 PICUs @ Rs 5.00 Lakhs per centre. | X33: =F33+J33+L33+P33+R33+T33+V33 -> 881.6 | Y33: =CONCATENATE(G33," ",K33," ",M33," ",Q33," ",S33," ",U33," ",W33) -> 1. New activity. Procurement of equipment to PICU at Rs.60.66 lakhs per centre for 10 PICUs as per Gap analysis. Total cost is Rs.606.60 lakhs. Details enclosed in RCH 27 PICU 2. Ongoing Activity. Rs.275.00 Lakhs proposed for operational expenses for 55 PICUs @ Rs 5.00 Lakhs per centre. | AG33: =SUM(Z33:AF33) -> 0 | AP33: =SUM(AI33:AO33) -> 0
D34: 28 | E34: Janani Shishu Suraksha Karyakram (JSSK) (excluding transport) | J34: =+I34+H34 -> 0 | O34: 2090.2575 | P34: =+O34+N34 -> 2090.2575 | Q34: 1. Ongoing activity. Rs.807.18 Lakhs towards procurement of Iron drops Vitamin D3 , Multivitamin drops to LBW babies discharged from Facilities 2. Ongoing activity. Rs. 1283.08 Lakhs: a. Rs.1194.91 Lakhs proposed for JSSK drugs and consumables for 58,913 pre-term infants towards surfactant @ Rs 2028.26 per injection. b. Rs.88.17 Lakhs - Procurement of Inj. Caffeine at a cost of Rs. 149.66 for 58,913 sick children | X34: =F34+J34+L34+P34+R34+T34+V34 -> 2090.2575 | Y34: =CONCATENATE(G34," ",K34," ",M34," ",Q34," ",S34," ",U34," ",W34) -> 1. Ongoing activity. Rs.807.18 Lakhs towards procurement of Iron drops Vitamin D3 , Multivitamin drops to LBW babies discharged from Facilities 2. Ongoing activity. Rs. 1283.08 Lakhs: a. Rs.1194.91 Lakhs proposed for JSSK drugs and consumables for 58,913 pre-term infants towards surfactant @ Rs 2028.26 per injection. b. Rs.88.17 Lakhs - Procurement of Inj. Caffeine at a cost of Rs. 149.66 for 58,913 sick children | AG34: =SUM(Z34:AF34) -> 0 | AP34: =SUM(AI34:AO34) -> 0
D35: 29 | E35: Janani Shishu Suraksha Karyakram (JSSK) - Transport | J35: =+I35+H35 -> 0 | P35: =+O35+N35 -> 0 | X35: =F35+J35+L35+P35+R35+T35+V35 -> 0 | Y35: =CONCATENATE(G35," ",K35," ",M35," ",Q35," ",S35," ",U35," ",W35) | AG35: =SUM(Z35:AF35) -> 0 | AP35: =SUM(AI35:AO35) -> 0
D36: 30 | E36: Other Child Health Components | J36: =+I36+H36 -> 0 | L36: 0 | M36: 1. Ongoing activity. In-line with NPCC discussions. Proposal for MUSQAN Gap Closure has been shifted to HSS (R). 175. | P36: =+O36+N36 -> 0 | T36: 0 | U36: 0 | V36: 0 | W36: 2. Ongoing Activity. In-line with NPCC discussions. Proposal for MUSQAN State & National Assessment has been shifted to HSS (R). 175. | X36: =F36+J36+L36+P36+R36+T36+V36 -> 0 | Y36: =CONCATENATE(G36," ",K36," ",M36," ",Q36," ",S36," ",U36," ",W36) -> 1. Ongoing activity. In-line with NPCC discussions. Proposal for MUSQAN Gap Closure has been shifted to HSS (R). 175. 0 2. Ongoing Activity. In-line with NPCC discussions. Proposal for MUSQAN State & National Assessment has been shifted to HSS (R). 175. | AG36: =SUM(Z36:AF36) -> 0 | AP36: =SUM(AI36:AO36) -> 0
D37: 31 | E37: State specific Initiatives and Innovations | Y37: =CONCATENATE(G37," ",K37," ",M37," ",Q37," ",S37," ",U37," ",W37)
B38: RCH.4 | C38: Immunization | D38: 32 | E38: Immunization including Mission Indradhanush | J38: =+I38+H38 -> 0 | O38: 14.72581 | P38: =+O38+N38 -> 14.72581 | Q38: 1. Ongoing activity. Purchase of Anti Diphtheria Serum and Benzathine Penicillin through TNMSC at a total cost of Rs.14.73 Lakhs (Rs.1134.50 * 1298 vials ) | R38: 175.48944 | S38: 2.Ongoing Activity. Total cost Rs.67.43 lakhs. Proposed 2247648 Bags for 749216 sessions. 3 Bags -Red /Blue /Yellow per session at the rate Rs. 3 per bag/session-Rs. 9 (22,47,648 Bags * Rs. 3 - Rs.67.43). 3. Ongoing Activity. In-line with NPCC discussions, the procurement of Hub Cutter has been included. Total cost Rs.108.06 lakhs Proposed for Rs. 750 (Hub Cutter/Puncture proof Rs.750 per Site) for 14,408 sessions site. | T38: 1405.1026 | U38: 4. Ongoing Activity. In-line with NPCC Discussion, activity restricted as per norms to Rs.2100/slum/month of 10000 population. Total Rs.144.9 lakhs. Proposed Rs.2100 per month for 12 months for 575 vacant posts in urban areas (Rs.2100 per month x 575 vacant posts x 12 months) 5. Ongoing activity. Alternate Vaccine Delivery charges in plain and urban areas at Rs.125 per session for 41 weeks . Total cost is Rs.36.29 lakhs. Details enclosed in RCH 32 UHWC 6. Ongoing Activity. Total Rs.636.74 lakhs. Proposed for Rs. 125 per Immunization session to VHNs for 52 weeks for 9,796 accessible HSCs Vaccine lifting charges 7. Ongoing activity. Proposed - Rs 227.14 Lakhs towards alternate vaccinator in Rural vacant HSCs @1300/- per month 8. Ongoing Activity. Total Rs.200.41 lakhs. Proposed for Rs. 200 per session for 52 sessions for 1927 hard to reach HSCs (Vaccine Lifting charges). 9. Ongoing Activity. Proposed for a total cost of Rs.58 Lakhs: a. Rs.46 lakhs. Proposed for 46 HUD per year for POL for vaccine delivery and b. Rs.12 lakhs for State Vaccine Store to 9 Regional Vaccine Store. 10. Ongoing Activity. In-line with NPCC Discussions, the proposal has been revised to Rs.1527 per Cold Chain Point for 2690 points, totalling to Rs. 41.05 Lakhs. a. Facility 2634 x Rs.1000=26.34 lakhs b. District (HUD) - 46 x Rs.20000 = Rs.9.2 lakhs c. Regional - 9 x Rs.50000 = Rs.4.5 lakhs d. State - 1 x Rs.100000 = Rs. 1 lakh 11. Ongoing Activity. Rs.11.72 Lakhs proposed for Microplan at the SHC level @ Rs.1000 per SHC 12. Ongoing Activity. Rs.5.24 lakhs proposed for Microplan at the Block level @ Rs.1000 / block for 388 block and Rs.2000 per revenue district for 46 Districts 13. Ongoing activity. In-line with NPCC Discussions, the proposal has been restricted to Rs.13.27 Lakhs towards Support for Quality Management System for AEFI Surveillance in District of Thoothukudi and Cuddalore and State level for Assessment, Training and Mentoring 14. New activity. Activity included as per NPCC Discussion. HPV campaign cost @ Rs.66000 per HUD. Total cost is Rs.30.36 lakhs | V38: 0 | X38: =F38+J38+L38+P38+R38+T38+V38 -> 1595.3179 | Y38: =CONCATENATE(G38," ",K38," ",M38," ",Q38," ",S38," ",U38," ",W38) -> 1. Ongoing activity. Purchase of Anti Diphtheria Serum and Benzathine Penicillin through TNMSC at a total cost of Rs.14.73 Lakhs (Rs.1134.50 * 1298 vials ) 2.Ongoing Activity. Total cost Rs.67.43 lakhs. Proposed 2247648 Bags for 749216 sessions. 3 Bags -Red /Blue /Yellow per session at the rate Rs. 3 per bag/session-Rs. 9 (22,47,648 Bags * Rs. 3 - Rs.67.43). 3. Ongoing Activity. In-line with NPCC discussions, the procurement of Hub Cutter has been included. Total cost Rs.108.06 lakhs Proposed for Rs. 750 (Hub Cutter/Puncture proof Rs.750 per Site) for 14,408 sessions site. 4. Ongoing Activity. In-line with NPCC Discussion, activity restricted as per norms to Rs.2100/slum/month of 10000 population. Total Rs.144.9 lakhs. Proposed Rs.2100 per month for 12 months for 575 vacant posts in urban areas (Rs.2100 per month x 575 vacant posts x 12 months) 5. Ongoing activity. Alternate Vaccine Delivery charges in plain and urban areas at Rs.125 per session for 41 weeks . Total cost is Rs.36.29 lakhs. Details enclosed in RCH 32 UHWC 6. Ongoing Activity. Total Rs.636.74 lakhs. Proposed for Rs. 125 per Immunization session to VHNs for 52 weeks for 9,796 accessible HSCs Vaccine lifting charges 7. Ongoing activity. Proposed - Rs 227.14 Lakhs towards alternate vaccinator in Rural vacant HSCs @1300/- per month 8. Ongoing Activity. Total Rs.200.41 lakhs. Proposed for Rs. 200 per session for 52 sessions for 1927 hard to reach HSCs (Vaccine Lifting charges). 9. Ongoing Activity. Proposed for a total cost of Rs.58 Lakhs: a. Rs.46 lakhs. Proposed for 46 HUD per year for POL for vaccine delivery and b. Rs.12 lakhs for State Vaccine Store to 9 Regional Vaccine Store. 10. Ongoing Activity. In-line with NPCC Discussions, the proposal has been revised to Rs.1527 per Cold Chain Point for 2690 points, totalling to Rs. 41.05 Lakhs. a. Facility 2634 x Rs.1000=26.34 lakhs b. District (HUD) - 46 x Rs.20000 = Rs.9.2 lakhs c. Regional - 9 x Rs.50000 = Rs.4.5 lakhs d. State - 1 x Rs.100000 = Rs. 1 lakh 11. Ongoing Activity. Rs.11.72 Lakhs proposed for Microplan at the SHC level @ Rs.1000 per SHC 12. Ongoing Activity. Rs.5.24 lakhs proposed for Microplan at the Block level @ Rs.1000 / block for 388 block and Rs.2000 per revenue district for 46 Districts 13. Ongoing activity. In-line with NPCC Discussions, the proposal has been restricted to Rs.13.27 Lakhs towards Support for Quality Management System for AEFI Surveillance in District of Thoothukudi and Cuddalore and State level for Assessment, Training and Mentoring 14. New activity. Activity included as per NPCC Discussion. HPV campaign cost @ Rs.66000 per HUD. Total cost is Rs.30.36 lakhs | AG38: =SUM(Z38:AF38) -> 0 | AP38: =SUM(AI38:AO38) -> 0
D39: 33 | E39: Pulse Polio Campaign | J39: =+I39+H39 -> 0 | P39: =+O39+N39 -> 0 | T39: 260 | U39: Ongoing activity. Operational cost Pulse Polio Immunisation. Total cost Rs.260 lakhs | X39: =F39+J39+L39+P39+R39+T39+V39 -> 260 | Y39: =CONCATENATE(G39," ",K39," ",M39," ",Q39," ",S39," ",U39," ",W39) -> Ongoing activity. Operational cost Pulse Polio Immunisation. Total cost Rs.260 lakhs | AG39: =SUM(Z39:AF39) -> 0 | AP39: =SUM(AI39:AO39) -> 0
D40: 34 | E40: eVIN Operational Cost | J40: =+I40+H40 -> 0 | P40: =+O40+N40 -> 0 | T40: 360.2697 | U40: Ongoing Activity. Revised as per NPCC Discussion. EVIN Operational cost Rs.342.27 lakhs and Procurement of Temperature logger is Rs.18 lakhs. Total cost is Rs.360.27 Lakhs. | X40: =F40+J40+L40+P40+R40+T40+V40 -> 360.2697 | Y40: =CONCATENATE(G40," ",K40," ",M40," ",Q40," ",S40," ",U40," ",W40) -> Ongoing Activity. Revised as per NPCC Discussion. EVIN Operational cost Rs.342.27 lakhs and Procurement of Temperature logger is Rs.18 lakhs. Total cost is Rs.360.27 Lakhs. | AG40: =SUM(Z40:AF40) -> 0 | AP40: =SUM(AI40:AO40) -> 0
...

Sheet Annexure - Capacity Building
A1: Annexure - Capacity Building (Details of trainings proposed under Sl. No. 201)
A2: State/UT to add rows as required to propose activities | S2: Amount in Rs. (Lakhs)
A3: S. No. | B3: Programme/ Theme | C3: Old Sl. No.(FMR) | D3: Proposed Training/Activity | E3: Cadre(s) to be Trained | F3: Participants - NHM/ NUHM/ Both | G3: No. of Batches | H3: Batch Size | I3: Quarter in which training is planned | J3: Duration (in Days) | K3: Mode of Training (Offline/Online/Hybrid) | L3: Level of Training (State/ District/ Block/ Facility) | M3: Unit Batch cost in Rs(Lakhs) | N3: Budget Proposed in lakhs | O3: State Remarks | P3: Total Amount Recommended by NPCC for FY 2026-27 | Q3: GoI Remarks | R3: Total Amount Recommended for FY 2026-27 (RoP) | S3: GoI Remarks
A4: A. Integrated Training of Core Cadres
A5: 1 | B5: Integrated Training | C5: 17 | D5: Integrated Refresher training of Medical Officers | E5: Medical Officers | F5: Both | G5: 120 | H5: 30 | I5: All 4 Quarter | J5: 6 Days | K5: Offline | L5: District | M5: 2.75 | N5: =M5*G5 -> 330 | O5: Revised as per NPCC Discussion. Ongoing activity: 6-day induction training for 3,600 Medical Officers across 7 RTIs, conducted in 30 batches at Rs. 2,75,000 per batch. Total cost is Rs.330 lakhs
A6: 2 | B6: Integrated Training | C6: 17 | D6: Integrated Refresher training of Staff Nurse | E6: Staff Nurses | F6: Both | G6: 110 | H6: 30 | I6: All 4 Quarter | J6: 10 Days | K6: Offline | L6: District | M6: 1.21 | N6: =M6*G6 -> 133.1 | O6: Revised as per NPCC Discussion. Ongoing activity: Comprehensive Primary Health Care (CPHC) training for 3300 staff nurses of PHC/UPHC/RBSK across 7 RTIs, conducted over 10 days in 84 batches at Rs. 1,20,450 per batch. Total cost is Rs.133.10 lakhs
A7: 3 | B7: Integrated Training | C7: 17 | D7: Integrated Refresher training of VHN/ANM | E7: VHN/UHN/ CHN/ SHN | F7: Both | G7: 100 | H7: 30 | I7: All 4 Quarter | J7: 5+5 days | K7: Offline | L7: District | M7: 1.2045 | N7: =M7*G7 -> 120.45 | O7: Revised as per NPCC Discussion. Ongoing activity: Integrated refresher training for 3000 CHN/SHN/ANM/VHN/UHN across 11 RTIs, conducted over 5+5 days in 100 batches at Rs. 1,20,450 per batch. Total cost is Rs.120.45 lakhs
A8: 4 | B8: Integrated Training | C8: 150 | D8: Integrated Induction training of CHO/MLHP | E8: MLHPs | F8: NHM | G8: 94 | H8: 30 | I8: All 4 Quarter | J8: 5+5 days | K8: Offline | L8: District | M8: 1.867 | N8: =M8*G8 -> 175.498 | O8: Ongoing activity: Revised as per NPCC Discussion. Integrated train ing Proposed 175.5 lakhs towards 10 days (5+5) offline integrated training of 2820 MLHPs in 94 batches @ Rs. 1,86,700 per batch in 7 RTIs. Total cost is Rs.175.50 lakhs
A9: 5 | B9: Integrated Training | C9: 159 | D9: Integrated training for ASHAs | E9: ASHA | F9: NHM | G9: 16 | H9: 30 | I9: All 4 Quarter | J9: 14 Days | K9: Offline | L9: District | M9: 2.27 | N9: =M9*G9 -> 36.32 | O9: Ongoing activity: Revised as per NPCC Discussion. Integrated training for ASHAs. Proposed Rs.36.32 lakhs towards Refresher training ASHAs @ Rs.2.27 Lakhs per Batch for 16 Batches in 7 RTIs. Total cost is Rs.36.32 lakhs
B10: A Total | N10: =SUM(N5:N9) -> 795.368
A11: B. Specific Packages (If any, e.g. RBSK team, FBNC, CEmONC etc.)
A12: RCH
A13: 5 | B13: Maternal Health | C13: 17 | D13: Other MH components (EmOC Training) | E13: Medical Officers | F13: Both | G13: 1 | H13: 8 | I13: II Quarter | J13: 25 weeks | K13: Offline | L13: Facility | M13: 12.87 | N13: =M13*G13 -> 12.87 | O13: Ongoing activities include EmOC training for Medical Officers, with one batch of 8 participants conducted over 25 weeks and a TOT EmOC training program for at a cost of Rs.12.87 lakhs per batch. Total cost is Rs.12.87 lakhs
A14: 6 | B14: Maternal Health | C14: 17 | D14: Other MH components (LSAS Training) | E14: Medical Officers | F14: Both | G14: 1 | H14: 24 | I14: All 4 Quarter | J14: 24 weeks | K14: Offline | L14: Facility | M14: 25.19 | N14: =M14*G14 -> 25.19 | O14: Ongoing activity includes LSAS training for 24 Medical Officers, conducted over a period of 24 weeks @ Rs.25.19 lakhs per batch. Total cost is Rs. 25.19 lakhs
A15: 7 | B15: Maternal Health | C15: 17 | D15: Other MH Component (MLCU training ) | E15: CEmONC Staff nurses | F15: Both | I15: All 4 Quarter | J15: 5 days | K15: Offline | L15: District | N15: 0 | O15: In line with the NPCC Discussion, the activity for training of CEmONC Staff for Rs.14.56 Lakhs is brought under the integrated training for Staff Nurses.
A16: 8 | B16: Maternal Health | C16: 8 | D16: Midwifery Training for (NPM & ME) | E16: Staff Nurses | F16: NHM | G16: 1 | H16: 36 | I16: 18 months | J16: 18 months | K16: Offline | L16: Facility | M16: 66.77 | N16: =M16*G16 -> 66.77 | O16: Ongoing activity. 1. Rs.64.80 Lakhs - Boarding and Lodging for NPM and Midwifery Educator for 36 Staff nurse @ Rs 500 / for 360 days 2. Training cost - Rs 1.97 Lakh / Educator for 6 Educator.
A17: 9 | B17: Maternal Health | D17: ECHO training | E17: General Physician | F17: Both | G17: 24 | H17: 4 | I17: 1 st and 2 and Quarter | J17: 15 days | K17: Offline | L17: Facility | M17: 0.7106 | N17: 0 | O17: In line with the NPCC Discussion, the activity for training to Physician on ECHO @ Rs.17.05 Lakhs has been dropped
A18: 10 | B18: Maternal Health | D18: USG training | E18: Medical Officers | F18: Both | G18: 9 | H18: 4 | I18: All quarter | J18: 24 weeks | K18: Offline | L18: Facility | M18: =4*0.2 -> 0.8 | N18: =+M18*G18 -> 7.2 | O18: In line with the NPCC Discussion, the activity has been restricted to Rs.7.20 Lakhs. New Activity 24 weeks of Training of 36 Doctors in the batches of 4 in 9 Medical Colleges @ Rs.20,000 per MO. Details enclosed in CB 201 USG
A19: 11 | B19: Maternal Health | D19: Pre Service training to Tutors of ANM and GNM Nursing | E19: Nursing tutors | F19: Both | N19: 0 | O19: New activity. In line with the NPCC Discussion, the activity for Nursing tutors for Rs.7.24 Lakhs is brought under the integrated training.
A20: 14 | B20: NSCAP | D20: Training for Genetic counselling for Counsellors | E20: Counsellors | F20: NHM | G20: 2 | H20: 60 | I20: 1 st and 2 and Quarter | J20: 1 | K20: Offline | L20: State | M20: 0.75 | N20: =M20*G20 -> 1.5 | O20: New activity. Training for Genetic counselling for Counsellors on NSCAP. Total cost is Rs.1.50 lakhs. Details enclosed in CB 201 NSCAP counsellors
A21: 15 | B21: NSCAP | D21: Training for General Medicine & Paediatrician | E21: General Medicine , Paediatrician & MO | F21: NHM | G21: 2 | H21: 60 | I21: 1 st and 2 and Quarter | J21: 1 | K21: Offline | L21: State | M21: 0.75 | N21: =M21*G21 -> 1.5 | O21: New activity. Training for General Medicine & Paediatrician. Total cost is Rs.1.50 lakhs. Details enclosed in CB 201 NSCAP Paediatrician
A22: 16 | B22: LaQshya | C22: 15 | D22: LaQshya Refresher Training | E22: Doctors, Nursing Superintendents and Staff Nurses | F22: Both | G22: 20 | H22: 30 | I22: II Quarter | J22: 2 days | K22: Hybrid | L22: District | M22: 0.745 | N22: =M22*G22 -> 14.9 | O22: Ongoing activity - Training for Doctors and Staff Nurses at 7 Training Centres in 20 batches, for 2 days, with 30 participants in each batch. Total cost is Rs.14.90 lakhs
A23: 17 | B23: Comprehensive Abortion Care | C23: 10 | D23: MTP training to Doctors from SDHs / CHCs / PHCs/ UPHCs | E23: Medical Officers | F23: Both | G23: 20 | H23: 5 | I23: 1st Quarter | J23: 12 | K23: Offline | L23: State | M23: 0.71 | N23: =M23*G23 -> 14.2 | O23: Ongoing Activity. proposed for Rs.14.20 Lakhs ,CAC/MTP Training(12 days) are conducting at the identified training institutes to train and certify untrained MBBS., Doctors(Non-specialist) working in CHCs, Additional PHCs & UPHCs to provide safe and legal first trimester CAC/MTP Services. Totally, 100 Doctors (20 batches) will be trained in CAC training @ 5 Doctors/Batch. Batch cost Rs 70950/-
A24: 18 | B24: Comprehensive Abortion Care | C24: 10 | D24: MMA Training to Medical Officer | E24: Medical Officers | F24: Both | G24: 63 | H24: 10 | I24: 1st & 2nd Quarter | J24: 630 | K24: Offline | L24: State | M24: 0.38775 | N24: =M24*G24 -> 24.42825 | O24: Ongoing Activity. Proposed for Rs.24.43 Lakhs MMA Training is conducted for 3 working days at the identified training institutes for 630 MBBS., (Non-specialist) untrained Doctors working in CHCs, Additional PHCs & UPHCs to increase the Service providers on abortion care services in 63 Batches/ 10 per Batch with Batch cost of Rs.38775/-
A25: 19 | B25: Family Planning | C25: 42 | D25: Laparoscopic Training to MO | E25: Medical Officers, Staff Nurse, OT assistant | F25: Both | G25: 20 | H25: 4 | I25: 1st, 2nd, 3rd Quarter | J25: 140 | K25: Offline | L25: State | M25: 0.631 | N25: =M25*G25 -> 12.62 | O25: On going activity Proposed for Rs. 12.62 Lakhs. Rs. 20 batches/ 4 per Batch. Batch cost - 63140/-
A26: 20 | B26: Family Planning | C26: 42 | D26: Minilap Training MO - Refresher | E26: Trained Medical Officers, Staff Nurse, OT assistant | F26: Both | G26: 26 | H26: 4 | I26: All 4 Quarter | J26: 760 | K26: Offline | L26: State | M26: 0.2123 | N26: =M26*G26 -> 5.5198 | O26: Ongoing Activity Proposed for Rs. 5.52 Lakhs. Refresher Minilap training to trained medical officers, 3 days, 4 MO per batch. Rs.21230 per batch. Total cost is Rs.5.52 lakhs for 26 batches
A27: 21 | B27: Family Planning | C27: 44,45 | D27: IUCD & Antara Training | E27: Medical Officers | F27: Both | G27: 38 | H27: 10 | I27: 2nd & 3rd Quarter | J27: 1860 | K27: Offline | L27: District | M27: 0.506 | N27: =M27*G27 -> 19.228 | O27: Revised as per NPCC Discussion. On going activity. Proposed for RS. 19.23 Lakhs It is proposed to train the untrained Medical Officers of MCH, District Hospital/Sub District Hospital, Urban health post & PHC of the districts. 38 Batches/ 10 MO per batch/ Batch cost Rs.50,600/-
A28: 22 | B28: Family Planning | C28: 44,45 | D28: IUCD & Antara Training | E28: Staff Nurse | F28: Both | G28: 38 | H28: 10 | I28: 1st quarter | J28: 1 | K28: Offline | L28: State | M28: 0.506 | N28: =M28*G28 -> 19.228 | O28: Revised as per NPCC Discussion. On going activity Proposed for Rs. 19.23 Lakhs to train SN/LHV/ANM of MCH, District Hospital/Sub District Hospital, Urban health post & PHC of the districts. 38 Batches/10 participants/ Batch cost for Rs.50,600/-
A29: 24 | B29: Adolescent Health | C29: 39 | D29: State Level Master Training under School Health and Wellness Programme | E29: DTTMO/RKSK Co-ordinator/DMCHO/2 School Teachers | F29: Both | G29: 4 | H29: 60 | I29: All 4 Quarter | J29: 18 days | K29: Offline | L29: State | M29: 1.11 | N29: =M29*G29 -> 4.44 | O29: Revised as per NPCC Discussion. Ongoing activity: Rs. 4.44 Lakh for conducting State Level Master training under School Health and Wellness Programme. Rs.1.11 lakhs per batch. Total cost is Rs.4.44 lakhs for 4 batches
A30: 25 | B30: Adolescent Health | C30: 39 | D30: District Level Training of School Health and Wellness Program for School Teachers of 6th to 12th standard. | E30: School Teachers from 6th - 12th standard | F30: Both | G30: 388 | H30: 80 | I30: All 4 Quarter | J30: 14 days | K30: Offline | L30: District | M30: =0.26*2 -> 0.52 | N30: =M30*G30 -> 201.76 | O30: Revised as per NPCC Discussion. Ongoing Activity: Rs. 201.76 lakh for conducting District level training for 6th-12th std school teachers under School Health and Wellness Program. Rs.0.52 lakhs er batch. Total cost is Rs.201.76 lakhs for 388 batches
A31: 26 | B31: Child Health | C31: 24 | D31: Facility Based Newborn Care/ Observership Training at RCC | E31: SNCU/NBSU Staff Nurse | F31: Both | G31: 18 | H31: 20 | I31: All quarter | J31: 18 | K31: Offline | L31: District | M31: 3.052 | N31: =M31*G31 -> 54.936 | O31: Ongoing activity. Rs.54.94 Lakhs proposed for 18 days Observership for facility based new-born care 18 batches at 3 Training sites @ unit of Rs 305300 with 20 participants. Total cost is Rs.54.94 lakhs for 18 batches
A32: 27 | B32: Immunization | C32: 32 | D32: District Level Orientation Training for ANM, VHN, SHN, CHN, Health Worker etc. for two days on Immunization Activities including AEFI, VPDs & UWIN in RTIs & Sensitization on Health Workers Manual on Immunization. | E32: ANM, VHN, SHN, CHN, Health Worker etc | F32: NHM | G32: 100 | H32: 30 | I32: All quarter | J32: 2 | K32: Offline | L32: District | M32: 0.76 | N32: =M32*G32 -> 76 | O32: Ongoing Activity. Total cost is Rs.76 Lakhs 2 days training for Immunization Activities at RTI, Single Batch Cost of Rs. 75,850 with 30 participants. Total cost is Rs.76 lakhs for 100 batches
A33: 28 | B33: Immunization | C33: 32 | D33: District Level Orientation Training for Medical Officers for two days on Immunization Activities including AEFI, VPDs & UWIN in RTIs & Sensitization on Medical Officers Manual on Immunization | E33: Medical Officers | F33: Both | G33: 100 | H33: 30 | I33: All quarter | J33: 1 | K33: Offline | L33: Stat, District & Block | M33: 0.96 | N33: =M33*G33 -> 96 | O33: Ongoing Activity. Total cost is Rs. 96 Lakhs 2 days training for Immunization Activities at RTI, Single Batch Cost of Rs. 95,700 with 30 participants. Total cost is Rs.96 lakhs for 100 batches
A34: 29 | B34: Immunization | C34: 32 | D34: Training for Cold Chain Handlers on Vaccine and Cold Chain Management at Block Level for 2 days at RTIs | E34: Pharmacist + Staff Nurse + SHN + ANM | F34: NHM | G34: 90 | H34: 30 | I34: All quarter | J34: 1 | K34: Offline | L34: Stat, District & Block | M34: =66550/100000 -> 0.6655 | N34: =M34*G34 -> 59.895 | O34: Ongoing Activity. Total cost is Rs.59.90 Lakhs 2 days training for Immunization Activities at RTI, Single Batch Cost of Rs. 66,550 with 30 participants. Total cost is Rs.59.90 lakhs for 90 batches
A35: 30 | B35: Immunization | D35: Training on HPV vaccination | E35: Staff Nurse and ANM | F35: NHM | G35: 38 | H35: 30 | I35: All quarter | J35: 1 | K35: Offline | L35: Stat, District & Block | M35: 0.67 | N35: =M35*G35 -> 25.46 | O35: New activity. Training on HPV vaccination to Staff Nurse and ANM @ Rs.0.67 lakhs per batch. Total cost is Rs.25.46 lakhs for 38 batches. Details enclosed in CB 201 HPV
A36: 31 | B36: Nutrition | D36: SAM - MAM Free District - Training | E36: MLHPs and Medical Officers | F36: Both | G36: 10 | H36: 30 | I36: 2nd & 3rd Quarter | J36: 1 | K36: Offline | L36: State | M36: 1 | N36: =M36*G36 -> 10 | O36: New activity. Proposed for SAM-MAM Free District training for MOs & MLHPs.. Total cost is Rs.10 lakhs for 10 batches. Details enclosed in CB 201 SAM
B37: RCH Total | N37: =SUM(N13:N36) -> 753.64505
A38: NDCP
A39: 32 | B39: NVHCP | C39: 83 | D39: Hands on Training on Viral load testing | E39: Lab technicians | F39: Both | G39: 4 | H39: 25 | I39: 2nd and 4th quarter | J39: 1 | K39: Offline | L39: State | M39: 0.5 | N39: =M39*G39 -> 2 | O39: Ongoing activity Proposed Rs.2 lakhs towards One day training for Lab technicians@ 0.5 lakh per batch of 25 participants as per NVHCP norms for 4 batches.
A40: 33 | B40: NVHCP | C40: 83 | D40: NVHCP Refresher Training | E40: Medical officers and District Nodal officers | F40: Both | G40: 4 | H40: 30 | I40: 2nd and 4th quarter | J40: 1 | K40: Offline | L40: State | M40: 0.5 | N40: =M40*G40 -> 2 | O40: Proposed Rs.2 lakhs towards one day training for Medical officers and District Nodal officers @ 0.5 lakh per batch of 30 participants as per NVHCP norms for 4 batches.
...

Sheet Annexure - IT Interventions
A1: Annexure - IT Interventions (Details of proposal under Sl. No. 203)
A2: State/UT to add rows as required to propose activities | J2: Amount in Rs. (Lakhs)
A3: S. No | B3: Programme/ Theme | C3: Old Sl. No. | D3: Activity Proposed | E3: Budget Proposed | F3: State Remarks | G3: Total Amount Recommended by NPCC for FY 2026-27 | H3: GoI Remarks | I3: Total Amount Recommended for FY 2026-27 (RoP) | J3: GoI Remarks
A4: RCH
A5: 1 | B5: Maternal Health | C5: 16 | D5: VHN Data card charges | E5: 335.88 | F5: Ongoing Activity: Proposed Rs. 335.88 Lakhs towards VHN Data Charges @unit cost of Rs.300 for 9330 VHNs.
A6: NDCP
A7: 2 | B7: NTEP | C7: 73 | D7: Tablet to field health staff | E7: =0.2*1148 -> 229.6 | F7: New activity. Procurement of Tablet to field health staff at Rs.20000. Total cost is Rs.229.60 lakhs. Details enclosed in IT 203 Tablet
A8: NCD
A9: HSS-Urban
A10: HSS-Rural
A11: 3 | B11: HRIS | C11: 190 | D11: Human Resource Information System | E11: 9 | F11: Ongoing Activity: Proposed Rs. 9 lakhs towards Maintance of HRMIS Application
A12: 4 | B12: Teleconsultation facilities at AAMs-Rural | C12: 152 | D12: IT interventions (Incl. RCH, NDCP, NCD, HSS-Urban, HSS-Rural - IT software, Laptops etc. for service delivery) | E12: =300*4848*12/100000 -> 174.528 | F12: Internet charges for HWC-HSCs Ongoing activity - Proposed Rs.174.53 Lakhs towards Internet charges for 7291 HSC- HWC Entry of footfall in AAM portal requires internet connection .Footfall at AAMs ia a keydeliverable.Also Tele- consultations must be done at all HWCs with minimum 25 calls per month which also requires internet connectivity.
A13: 5 | B13: Technical Assistance | C13: 194 | E13: 0 | F13: Ongoing activity. PICME 3.0 Maintenance - As per NPCC Discussion, the activity has been shifted to HSS.186. Total cost Rs.44.80 lakhs. PICME 3.0 Maintenance
A14: 6 | B14: HMIS | C14: 195 | D14: Connectivity Charges | E14: =631.41-233.6 -> 397.81 | F14: Ongoing Activity: Proposed Rs. 397.81 Lakhs towards connectivity charges for 336 facilities
A15: 7 | C15: 195 | D15: UPS cabling | E15: 1165 | F15: Ongoing Activity: As per NPCC Discussion, the actual cost for the UPS Cabling for 37 DH, 262 SDH and 388 CHCs has been arrived to a total cost of Rs. 1165 Lakhs towards UPS Cabling @ unit cost of Rs. 197816.59 for 687 facilities
A16: 8 | C16: 195 | D16: Operational cost for HMIS | E16: 345.55 | F16: Ongoing activity: Proposed for Rs.345.55 Lakhs for 2677 units towards Opex Cost for HMIS @ unit cost Rs.12908.29
A17: 9 | C17: 195 | D17: Maintenance of other Application and Hosting Charges | E17: 36.7 | F17: Ongoing Activity: Revised as per NPCC Discussion. Proposed Rs.36.70 lakhs towards maintenance, server cost and Hosting charges of existing NHM applications and Digital Attendance Monitoring System.
A18: 10 | C18: 195 | D18: CAMC of IT Hardware and Server | E18: 300 | F18: Ongoing Activity: Proposed Rs. 300 Lakhs towards CAMC for IT hardware
A19: 11 | C19: 195 | D19: Additional Development, Server Maintenance and PMU team maintenance for HMIS 3.0 | E19: 1457.83 | F19: Ongoing Activity: As per NPCC Discussion, the proposal has been revised and restricted to Rs.1457.83 Lakhs towards Additional Development, and PMU team maintenance for HMIS 3.0
A20: 11 | C20: 195 | D20: SMS Charges for beneficiaries registered in HMIS and other applications | E20: 50 | F20: Ongoing Activity: Proposed Rs. 50 Lakhs towards SMS Charges for beneficiaries in PICME.
